BEGIN:VCALENDAR
VERSION:2.0
PRODID:-//CT Demolay - ECPv6.14.2//NONSGML v1.0//EN
CALSCALE:GREGORIAN
METHOD:PUBLISH
X-ORIGINAL-URL:https://wp.ctdemolay.org
X-WR-CALDESC:Events for CT Demolay
REFRESH-INTERVAL;VALUE=DURATION:PT1H
X-Robots-Tag:noindex
X-PUBLISHED-TTL:PT1H
BEGIN:VTIMEZONE
TZID:UTC
BEGIN:STANDARD
TZOFFSETFROM:+0000
TZOFFSETTO:+0000
TZNAME:UTC
DTSTART:20280101T000000
END:STANDARD
END:VTIMEZONE
BEGIN:VEVENT
DTSTART;TZID=UTC:20280112T190000
DTEND;TZID=UTC:20280112T203000
DTSTAMP:20260425T222523
CREATED:20250615T005348Z
LAST-MODIFIED:20250615T005721Z
UID:10000384-1831316400-1831321800@wp.ctdemolay.org
SUMMARY:Chapter Meeting: Milford Chapter
DESCRIPTION:Milford regularly scheduled Meeting in Milford\, CT \n7:00 PM Start – September through June \nChapter Polo or DeMolay Shirt
URL:https://wp.ctdemolay.org/event/chapter-meeting-milford-chapter/2028-01-12/
LOCATION:Milford\, 59 Broad Street\, Milford\, CT\, 06460\, United States
CATEGORIES:Chapter Business Meeting
END:VEVENT
BEGIN:VEVENT
DTSTART;TZID=UTC:20280126T190000
DTEND;TZID=UTC:20280126T203000
DTSTAMP:20260425T222523
CREATED:20250615T005509Z
LAST-MODIFIED:20250615T005509Z
UID:10000336-1832526000-1832531400@wp.ctdemolay.org
SUMMARY:Chapter Meeting: Milford Chapter
DESCRIPTION:Milford regularly scheduled Meeting in Milford\, CT \n7:00 PM Start – September through June \nChapter Polo or DeMolay Shirt
URL:https://wp.ctdemolay.org/event/chapter-meeting-milford-chapter-2/2028-01-26/
LOCATION:Milford\, 59 Broad Street\, Milford\, CT\, 06460\, United States
CATEGORIES:Chapter Business Meeting
END:VEVENT
BEGIN:VEVENT
DTSTART;TZID=UTC:20280209T190000
DTEND;TZID=UTC:20280209T203000
DTSTAMP:20260425T222523
CREATED:20250615T005348Z
LAST-MODIFIED:20250615T005721Z
UID:10000385-1833735600-1833741000@wp.ctdemolay.org
SUMMARY:Chapter Meeting: Milford Chapter
DESCRIPTION:Milford regularly scheduled Meeting in Milford\, CT \n7:00 PM Start – September through June \nChapter Polo or DeMolay Shirt
URL:https://wp.ctdemolay.org/event/chapter-meeting-milford-chapter/2028-02-09/
LOCATION:Milford\, 59 Broad Street\, Milford\, CT\, 06460\, United States
CATEGORIES:Chapter Business Meeting
END:VEVENT
BEGIN:VEVENT
DTSTART;TZID=UTC:20280223T190000
DTEND;TZID=UTC:20280223T203000
DTSTAMP:20260425T222523
CREATED:20250615T005509Z
LAST-MODIFIED:20250615T005509Z
UID:10000337-1834945200-1834950600@wp.ctdemolay.org
SUMMARY:Chapter Meeting: Milford Chapter
DESCRIPTION:Milford regularly scheduled Meeting in Milford\, CT \n7:00 PM Start – September through June \nChapter Polo or DeMolay Shirt
URL:https://wp.ctdemolay.org/event/chapter-meeting-milford-chapter-2/2028-02-23/
LOCATION:Milford\, 59 Broad Street\, Milford\, CT\, 06460\, United States
CATEGORIES:Chapter Business Meeting
END:VEVENT
BEGIN:VEVENT
DTSTART;TZID=UTC:20280308T190000
DTEND;TZID=UTC:20280308T203000
DTSTAMP:20260425T222523
CREATED:20250615T005348Z
LAST-MODIFIED:20250615T005721Z
UID:10000386-1836154800-1836160200@wp.ctdemolay.org
SUMMARY:Chapter Meeting: Milford Chapter
DESCRIPTION:Milford regularly scheduled Meeting in Milford\, CT \n7:00 PM Start – September through June \nChapter Polo or DeMolay Shirt
URL:https://wp.ctdemolay.org/event/chapter-meeting-milford-chapter/2028-03-08/
LOCATION:Milford\, 59 Broad Street\, Milford\, CT\, 06460\, United States
CATEGORIES:Chapter Business Meeting
END:VEVENT
BEGIN:VEVENT
DTSTART;TZID=UTC:20280322T190000
DTEND;TZID=UTC:20280322T203000
DTSTAMP:20260425T222523
CREATED:20250615T005509Z
LAST-MODIFIED:20250615T005509Z
UID:10000338-1837364400-1837369800@wp.ctdemolay.org
SUMMARY:Chapter Meeting: Milford Chapter
DESCRIPTION:Milford regularly scheduled Meeting in Milford\, CT \n7:00 PM Start – September through June \nChapter Polo or DeMolay Shirt
URL:https://wp.ctdemolay.org/event/chapter-meeting-milford-chapter-2/2028-03-22/
LOCATION:Milford\, 59 Broad Street\, Milford\, CT\, 06460\, United States
CATEGORIES:Chapter Business Meeting
END:VEVENT
BEGIN:VEVENT
DTSTART;TZID=UTC:20280412T190000
DTEND;TZID=UTC:20280412T203000
DTSTAMP:20260425T222523
CREATED:20250615T005348Z
LAST-MODIFIED:20250615T005721Z
UID:10000387-1839178800-1839184200@wp.ctdemolay.org
SUMMARY:Chapter Meeting: Milford Chapter
DESCRIPTION:Milford regularly scheduled Meeting in Milford\, CT \n7:00 PM Start – September through June \nChapter Polo or DeMolay Shirt
URL:https://wp.ctdemolay.org/event/chapter-meeting-milford-chapter/2028-04-12/
LOCATION:Milford\, 59 Broad Street\, Milford\, CT\, 06460\, United States
CATEGORIES:Chapter Business Meeting
END:VEVENT
BEGIN:VEVENT
DTSTART;TZID=UTC:20280426T190000
DTEND;TZID=UTC:20280426T203000
DTSTAMP:20260425T222523
CREATED:20250615T005509Z
LAST-MODIFIED:20250615T005509Z
UID:10000339-1840388400-1840393800@wp.ctdemolay.org
SUMMARY:Chapter Meeting: Milford Chapter
DESCRIPTION:Milford regularly scheduled Meeting in Milford\, CT \n7:00 PM Start – September through June \nChapter Polo or DeMolay Shirt
URL:https://wp.ctdemolay.org/event/chapter-meeting-milford-chapter-2/2028-04-26/
LOCATION:Milford\, 59 Broad Street\, Milford\, CT\, 06460\, United States
CATEGORIES:Chapter Business Meeting
END:VEVENT
BEGIN:VEVENT
DTSTART;TZID=UTC:20280510T190000
DTEND;TZID=UTC:20280510T203000
DTSTAMP:20260425T222523
CREATED:20250615T005348Z
LAST-MODIFIED:20250615T005721Z
UID:10000388-1841598000-1841603400@wp.ctdemolay.org
SUMMARY:Chapter Meeting: Milford Chapter
DESCRIPTION:Milford regularly scheduled Meeting in Milford\, CT \n7:00 PM Start – September through June \nChapter Polo or DeMolay Shirt
URL:https://wp.ctdemolay.org/event/chapter-meeting-milford-chapter/2028-05-10/
LOCATION:Milford\, 59 Broad Street\, Milford\, CT\, 06460\, United States
CATEGORIES:Chapter Business Meeting
END:VEVENT
BEGIN:VEVENT
DTSTART;TZID=UTC:20280524T190000
DTEND;TZID=UTC:20280524T203000
DTSTAMP:20260425T222523
CREATED:20250615T005509Z
LAST-MODIFIED:20250615T005509Z
UID:10000340-1842807600-1842813000@wp.ctdemolay.org
SUMMARY:Chapter Meeting: Milford Chapter
DESCRIPTION:Milford regularly scheduled Meeting in Milford\, CT \n7:00 PM Start – September through June \nChapter Polo or DeMolay Shirt
URL:https://wp.ctdemolay.org/event/chapter-meeting-milford-chapter-2/2028-05-24/
LOCATION:Milford\, 59 Broad Street\, Milford\, CT\, 06460\, United States
CATEGORIES:Chapter Business Meeting
END:VEVENT
BEGIN:VEVENT
DTSTART;TZID=UTC:20280614T190000
DTEND;TZID=UTC:20280614T203000
DTSTAMP:20260425T222523
CREATED:20250615T005348Z
LAST-MODIFIED:20250615T005721Z
UID:10000389-1844622000-1844627400@wp.ctdemolay.org
SUMMARY:Chapter Meeting: Milford Chapter
DESCRIPTION:Milford regularly scheduled Meeting in Milford\, CT \n7:00 PM Start – September through June \nChapter Polo or DeMolay Shirt
URL:https://wp.ctdemolay.org/event/chapter-meeting-milford-chapter/2028-06-14/
LOCATION:Milford\, 59 Broad Street\, Milford\, CT\, 06460\, United States
CATEGORIES:Chapter Business Meeting
END:VEVENT
BEGIN:VEVENT
DTSTART;TZID=UTC:20280628T190000
DTEND;TZID=UTC:20280628T203000
DTSTAMP:20260425T222523
CREATED:20250615T005509Z
LAST-MODIFIED:20250615T005509Z
UID:10000341-1845831600-1845837000@wp.ctdemolay.org
SUMMARY:Chapter Meeting: Milford Chapter
DESCRIPTION:Milford regularly scheduled Meeting in Milford\, CT \n7:00 PM Start – September through June \nChapter Polo or DeMolay Shirt
URL:https://wp.ctdemolay.org/event/chapter-meeting-milford-chapter-2/2028-06-28/
LOCATION:Milford\, 59 Broad Street\, Milford\, CT\, 06460\, United States
CATEGORIES:Chapter Business Meeting
END:VEVENT
BEGIN:VEVENT
DTSTART;TZID=UTC:20280712T190000
DTEND;TZID=UTC:20280712T203000
DTSTAMP:20260425T222523
CREATED:20250615T005348Z
LAST-MODIFIED:20250615T005721Z
UID:10000390-1847041200-1847046600@wp.ctdemolay.org
SUMMARY:Chapter Meeting: Milford Chapter
DESCRIPTION:Milford regularly scheduled Meeting in Milford\, CT \n7:00 PM Start – September through June \nChapter Polo or DeMolay Shirt
URL:https://wp.ctdemolay.org/event/chapter-meeting-milford-chapter/2028-07-12/
LOCATION:Milford\, 59 Broad Street\, Milford\, CT\, 06460\, United States
CATEGORIES:Chapter Business Meeting
END:VEVENT
BEGIN:VEVENT
DTSTART;TZID=UTC:20280726T190000
DTEND;TZID=UTC:20280726T203000
DTSTAMP:20260425T222523
CREATED:20250615T005509Z
LAST-MODIFIED:20250615T005509Z
UID:10000342-1848250800-1848256200@wp.ctdemolay.org
SUMMARY:Chapter Meeting: Milford Chapter
DESCRIPTION:Milford regularly scheduled Meeting in Milford\, CT \n7:00 PM Start – September through June \nChapter Polo or DeMolay Shirt
URL:https://wp.ctdemolay.org/event/chapter-meeting-milford-chapter-2/2028-07-26/
LOCATION:Milford\, 59 Broad Street\, Milford\, CT\, 06460\, United States
CATEGORIES:Chapter Business Meeting
END:VEVENT
BEGIN:VEVENT
DTSTART;TZID=UTC:20280809T190000
DTEND;TZID=UTC:20280809T203000
DTSTAMP:20260425T222523
CREATED:20250615T005348Z
LAST-MODIFIED:20250615T005721Z
UID:10000391-1849460400-1849465800@wp.ctdemolay.org
SUMMARY:Chapter Meeting: Milford Chapter
DESCRIPTION:Milford regularly scheduled Meeting in Milford\, CT \n7:00 PM Start – September through June \nChapter Polo or DeMolay Shirt
URL:https://wp.ctdemolay.org/event/chapter-meeting-milford-chapter/2028-08-09/
LOCATION:Milford\, 59 Broad Street\, Milford\, CT\, 06460\, United States
CATEGORIES:Chapter Business Meeting
END:VEVENT
BEGIN:VEVENT
DTSTART;TZID=UTC:20280823T190000
DTEND;TZID=UTC:20280823T203000
DTSTAMP:20260425T222523
CREATED:20250615T005509Z
LAST-MODIFIED:20250615T005509Z
UID:10000343-1850670000-1850675400@wp.ctdemolay.org
SUMMARY:Chapter Meeting: Milford Chapter
DESCRIPTION:Milford regularly scheduled Meeting in Milford\, CT \n7:00 PM Start – September through June \nChapter Polo or DeMolay Shirt
URL:https://wp.ctdemolay.org/event/chapter-meeting-milford-chapter-2/2028-08-23/
LOCATION:Milford\, 59 Broad Street\, Milford\, CT\, 06460\, United States
CATEGORIES:Chapter Business Meeting
END:VEVENT
BEGIN:VEVENT
DTSTART;TZID=UTC:20280913T190000
DTEND;TZID=UTC:20280913T203000
DTSTAMP:20260425T222523
CREATED:20250615T005348Z
LAST-MODIFIED:20250615T005721Z
UID:10000392-1852484400-1852489800@wp.ctdemolay.org
SUMMARY:Chapter Meeting: Milford Chapter
DESCRIPTION:Milford regularly scheduled Meeting in Milford\, CT \n7:00 PM Start – September through June \nChapter Polo or DeMolay Shirt
URL:https://wp.ctdemolay.org/event/chapter-meeting-milford-chapter/2028-09-13/
LOCATION:Milford\, 59 Broad Street\, Milford\, CT\, 06460\, United States
CATEGORIES:Chapter Business Meeting
END:VEVENT
BEGIN:VEVENT
DTSTART;TZID=UTC:20280927T190000
DTEND;TZID=UTC:20280927T203000
DTSTAMP:20260425T222523
CREATED:20250615T005509Z
LAST-MODIFIED:20250615T005509Z
UID:10000344-1853694000-1853699400@wp.ctdemolay.org
SUMMARY:Chapter Meeting: Milford Chapter
DESCRIPTION:Milford regularly scheduled Meeting in Milford\, CT \n7:00 PM Start – September through June \nChapter Polo or DeMolay Shirt
URL:https://wp.ctdemolay.org/event/chapter-meeting-milford-chapter-2/2028-09-27/
LOCATION:Milford\, 59 Broad Street\, Milford\, CT\, 06460\, United States
CATEGORIES:Chapter Business Meeting
END:VEVENT
BEGIN:VEVENT
DTSTART;TZID=UTC:20281011T190000
DTEND;TZID=UTC:20281011T203000
DTSTAMP:20260425T222523
CREATED:20250615T005348Z
LAST-MODIFIED:20250615T005721Z
UID:10000393-1854903600-1854909000@wp.ctdemolay.org
SUMMARY:Chapter Meeting: Milford Chapter
DESCRIPTION:Milford regularly scheduled Meeting in Milford\, CT \n7:00 PM Start – September through June \nChapter Polo or DeMolay Shirt
URL:https://wp.ctdemolay.org/event/chapter-meeting-milford-chapter/2028-10-11/
LOCATION:Milford\, 59 Broad Street\, Milford\, CT\, 06460\, United States
CATEGORIES:Chapter Business Meeting
END:VEVENT
BEGIN:VEVENT
DTSTART;TZID=UTC:20281025T190000
DTEND;TZID=UTC:20281025T203000
DTSTAMP:20260425T222523
CREATED:20250615T005509Z
LAST-MODIFIED:20250615T005509Z
UID:10000345-1856113200-1856118600@wp.ctdemolay.org
SUMMARY:Chapter Meeting: Milford Chapter
DESCRIPTION:Milford regularly scheduled Meeting in Milford\, CT \n7:00 PM Start – September through June \nChapter Polo or DeMolay Shirt
URL:https://wp.ctdemolay.org/event/chapter-meeting-milford-chapter-2/2028-10-25/
LOCATION:Milford\, 59 Broad Street\, Milford\, CT\, 06460\, United States
CATEGORIES:Chapter Business Meeting
END:VEVENT
BEGIN:VEVENT
DTSTART;TZID=UTC:20281108T190000
DTEND;TZID=UTC:20281108T203000
DTSTAMP:20260425T222523
CREATED:20250615T005348Z
LAST-MODIFIED:20250615T005721Z
UID:10000394-1857322800-1857328200@wp.ctdemolay.org
SUMMARY:Chapter Meeting: Milford Chapter
DESCRIPTION:Milford regularly scheduled Meeting in Milford\, CT \n7:00 PM Start – September through June \nChapter Polo or DeMolay Shirt
URL:https://wp.ctdemolay.org/event/chapter-meeting-milford-chapter/2028-11-08/
LOCATION:Milford\, 59 Broad Street\, Milford\, CT\, 06460\, United States
CATEGORIES:Chapter Business Meeting
END:VEVENT
BEGIN:VEVENT
DTSTART;TZID=UTC:20281122T190000
DTEND;TZID=UTC:20281122T203000
DTSTAMP:20260425T222523
CREATED:20250615T005509Z
LAST-MODIFIED:20250615T005509Z
UID:10000346-1858532400-1858537800@wp.ctdemolay.org
SUMMARY:Chapter Meeting: Milford Chapter
DESCRIPTION:Milford regularly scheduled Meeting in Milford\, CT \n7:00 PM Start – September through June \nChapter Polo or DeMolay Shirt
URL:https://wp.ctdemolay.org/event/chapter-meeting-milford-chapter-2/2028-11-22/
LOCATION:Milford\, 59 Broad Street\, Milford\, CT\, 06460\, United States
CATEGORIES:Chapter Business Meeting
END:VEVENT
BEGIN:VEVENT
DTSTART;TZID=UTC:20281213T190000
DTEND;TZID=UTC:20281213T203000
DTSTAMP:20260425T222523
CREATED:20250615T005348Z
LAST-MODIFIED:20250615T005721Z
UID:10000395-1860346800-1860352200@wp.ctdemolay.org
SUMMARY:Chapter Meeting: Milford Chapter
DESCRIPTION:Milford regularly scheduled Meeting in Milford\, CT \n7:00 PM Start – September through June \nChapter Polo or DeMolay Shirt
URL:https://wp.ctdemolay.org/event/chapter-meeting-milford-chapter/2028-12-13/
LOCATION:Milford\, 59 Broad Street\, Milford\, CT\, 06460\, United States
CATEGORIES:Chapter Business Meeting
END:VEVENT
BEGIN:VEVENT
DTSTART;TZID=UTC:20281227T190000
DTEND;TZID=UTC:20281227T203000
DTSTAMP:20260425T222523
CREATED:20250615T005509Z
LAST-MODIFIED:20250615T005509Z
UID:10000347-1861556400-1861561800@wp.ctdemolay.org
SUMMARY:Chapter Meeting: Milford Chapter
DESCRIPTION:Milford regularly scheduled Meeting in Milford\, CT \n7:00 PM Start – September through June \nChapter Polo or DeMolay Shirt
URL:https://wp.ctdemolay.org/event/chapter-meeting-milford-chapter-2/2028-12-27/
LOCATION:Milford\, 59 Broad Street\, Milford\, CT\, 06460\, United States
CATEGORIES:Chapter Business Meeting
END:VEVENT
BEGIN:VEVENT
DTSTART;TZID=UTC:20290110T190000
DTEND;TZID=UTC:20290110T203000
DTSTAMP:20260425T222523
CREATED:20250615T005348Z
LAST-MODIFIED:20250615T005721Z
UID:10000396-1862766000-1862771400@wp.ctdemolay.org
SUMMARY:Chapter Meeting: Milford Chapter
DESCRIPTION:Milford regularly scheduled Meeting in Milford\, CT \n7:00 PM Start – September through June \nChapter Polo or DeMolay Shirt
URL:https://wp.ctdemolay.org/event/chapter-meeting-milford-chapter/2029-01-10/
LOCATION:Milford\, 59 Broad Street\, Milford\, CT\, 06460\, United States
CATEGORIES:Chapter Business Meeting
END:VEVENT
BEGIN:VEVENT
DTSTART;TZID=UTC:20290124T190000
DTEND;TZID=UTC:20290124T203000
DTSTAMP:20260425T222523
CREATED:20250615T005509Z
LAST-MODIFIED:20250615T005509Z
UID:10000348-1863975600-1863981000@wp.ctdemolay.org
SUMMARY:Chapter Meeting: Milford Chapter
DESCRIPTION:Milford regularly scheduled Meeting in Milford\, CT \n7:00 PM Start – September through June \nChapter Polo or DeMolay Shirt
URL:https://wp.ctdemolay.org/event/chapter-meeting-milford-chapter-2/2029-01-24/
LOCATION:Milford\, 59 Broad Street\, Milford\, CT\, 06460\, United States
CATEGORIES:Chapter Business Meeting
END:VEVENT
BEGIN:VEVENT
DTSTART;TZID=UTC:20290214T190000
DTEND;TZID=UTC:20290214T203000
DTSTAMP:20260425T222523
CREATED:20250615T005348Z
LAST-MODIFIED:20250615T005721Z
UID:10000397-1865790000-1865795400@wp.ctdemolay.org
SUMMARY:Chapter Meeting: Milford Chapter
DESCRIPTION:Milford regularly scheduled Meeting in Milford\, CT \n7:00 PM Start – September through June \nChapter Polo or DeMolay Shirt
URL:https://wp.ctdemolay.org/event/chapter-meeting-milford-chapter/2029-02-14/
LOCATION:Milford\, 59 Broad Street\, Milford\, CT\, 06460\, United States
CATEGORIES:Chapter Business Meeting
END:VEVENT
BEGIN:VEVENT
DTSTART;TZID=UTC:20290228T190000
DTEND;TZID=UTC:20290228T203000
DTSTAMP:20260425T222523
CREATED:20250615T005509Z
LAST-MODIFIED:20250615T005509Z
UID:10000349-1866999600-1867005000@wp.ctdemolay.org
SUMMARY:Chapter Meeting: Milford Chapter
DESCRIPTION:Milford regularly scheduled Meeting in Milford\, CT \n7:00 PM Start – September through June \nChapter Polo or DeMolay Shirt
URL:https://wp.ctdemolay.org/event/chapter-meeting-milford-chapter-2/2029-02-28/
LOCATION:Milford\, 59 Broad Street\, Milford\, CT\, 06460\, United States
CATEGORIES:Chapter Business Meeting
END:VEVENT
BEGIN:VEVENT
DTSTART;TZID=UTC:20290314T190000
DTEND;TZID=UTC:20290314T203000
DTSTAMP:20260425T222523
CREATED:20250615T005348Z
LAST-MODIFIED:20250615T005721Z
UID:10000398-1868209200-1868214600@wp.ctdemolay.org
SUMMARY:Chapter Meeting: Milford Chapter
DESCRIPTION:Milford regularly scheduled Meeting in Milford\, CT \n7:00 PM Start – September through June \nChapter Polo or DeMolay Shirt
URL:https://wp.ctdemolay.org/event/chapter-meeting-milford-chapter/2029-03-14/
LOCATION:Milford\, 59 Broad Street\, Milford\, CT\, 06460\, United States
CATEGORIES:Chapter Business Meeting
END:VEVENT
BEGIN:VEVENT
DTSTART;TZID=UTC:20290328T190000
DTEND;TZID=UTC:20290328T203000
DTSTAMP:20260425T222523
CREATED:20250615T005509Z
LAST-MODIFIED:20250615T005509Z
UID:10000350-1869418800-1869424200@wp.ctdemolay.org
SUMMARY:Chapter Meeting: Milford Chapter
DESCRIPTION:Milford regularly scheduled Meeting in Milford\, CT \n7:00 PM Start – September through June \nChapter Polo or DeMolay Shirt
URL:https://wp.ctdemolay.org/event/chapter-meeting-milford-chapter-2/2029-03-28/
LOCATION:Milford\, 59 Broad Street\, Milford\, CT\, 06460\, United States
CATEGORIES:Chapter Business Meeting
END:VEVENT
END:VCALENDAR