BEGIN:VCALENDAR
VERSION:2.0
PRODID:-//CT Demolay - ECPv6.14.2//NONSGML v1.0//EN
CALSCALE:GREGORIAN
METHOD:PUBLISH
X-ORIGINAL-URL:https://wp.ctdemolay.org
X-WR-CALDESC:Events for CT Demolay
REFRESH-INTERVAL;VALUE=DURATION:PT1H
X-Robots-Tag:noindex
X-PUBLISHED-TTL:PT1H
BEGIN:VTIMEZONE
TZID:UTC
BEGIN:STANDARD
TZOFFSETFROM:+0000
TZOFFSETTO:+0000
TZNAME:UTC
DTSTART:20260101T000000
END:STANDARD
END:VTIMEZONE
BEGIN:VEVENT
DTSTART;TZID=UTC:20261110T193000
DTEND;TZID=UTC:20261110T210000
DTSTAMP:20260426T034101
CREATED:20250615T003612Z
LAST-MODIFIED:20250615T003612Z
UID:10000180-1794339000-1794344400@wp.ctdemolay.org
SUMMARY:Chapter Meeting: Sleeping Giant Chapter
DESCRIPTION:Sleeping Giant regularly scheduled Meeting in North Haven\, CT \n7:30 Start \nChapter Polo or DeMolay Shirt
URL:https://wp.ctdemolay.org/event/chapter-meeting-sleeping-giant-chapter/2026-11-10/
LOCATION:North Haven\, 30 Church Street\, North Haven\, CT\, 06473\, United States
CATEGORIES:Chapter Business Meeting
END:VEVENT
BEGIN:VEVENT
DTSTART;TZID=UTC:20261111T190000
DTEND;TZID=UTC:20261111T203000
DTSTAMP:20260426T034101
CREATED:20250615T005348Z
LAST-MODIFIED:20250615T005721Z
UID:10000370-1794423600-1794429000@wp.ctdemolay.org
SUMMARY:Chapter Meeting: Milford Chapter
DESCRIPTION:Milford regularly scheduled Meeting in Milford\, CT \n7:00 PM Start – September through June \nChapter Polo or DeMolay Shirt
URL:https://wp.ctdemolay.org/event/chapter-meeting-milford-chapter/2026-11-11/
LOCATION:Milford\, 59 Broad Street\, Milford\, CT\, 06460\, United States
CATEGORIES:Chapter Business Meeting
END:VEVENT
BEGIN:VEVENT
DTSTART;TZID=UTC:20261111T193000
DTEND;TZID=UTC:20261111T210000
DTSTAMP:20260426T034101
CREATED:20250615T010018Z
LAST-MODIFIED:20250615T010608Z
UID:10000516-1794425400-1794430800@wp.ctdemolay.org
SUMMARY:Chapter Meeting: Oliver Wolcott Chapter
DESCRIPTION:Oliver Wolcott regularly scheduled Meeting in Torrington\, CT \n7:30 PM Start \nChapter Polo or DeMolay Shirt
URL:https://wp.ctdemolay.org/event/chapter-meeting-oliver-wolcott-chapter/2026-11-11/
LOCATION:Torrington\, 26 Water St\, Torrington\, CT\, 06790\, United States
CATEGORIES:Chapter Business Meeting
END:VEVENT
BEGIN:VEVENT
DTSTART;TZID=UTC:20261112T193000
DTEND;TZID=UTC:20261112T210000
DTSTAMP:20260426T034101
CREATED:20250615T002115Z
LAST-MODIFIED:20250615T004045Z
UID:10000024-1794511800-1794517200@wp.ctdemolay.org
SUMMARY:Chapter Meeting: Marcus Holcomb / Nathan Hale
DESCRIPTION:Marcus Holcomb / Nathan Hale regularly scheduled Meeting in New Britian\, CT \n7:30 Start \nChapter Polo or DeMolay Shirt
URL:https://wp.ctdemolay.org/event/chapter-meeting-marcus-holcomb-nathan-hale/2026-11-12/
LOCATION:New Britian\, 10 Mason Drive\, New Britian\, CT\, 06052\, United States
CATEGORIES:Chapter Business Meeting
END:VEVENT
BEGIN:VEVENT
DTSTART;TZID=UTC:20261124T193000
DTEND;TZID=UTC:20261124T210000
DTSTAMP:20260426T034101
CREATED:20250615T004917Z
LAST-MODIFIED:20250615T004917Z
UID:10000228-1795548600-1795554000@wp.ctdemolay.org
SUMMARY:Chapter Meeting: Sleeping Giant Chapter
DESCRIPTION:Sleeping Giant regularly scheduled Meeting in North Haven\, CT \n7:30 Start \nChapter Polo or DeMolay Shirt
URL:https://wp.ctdemolay.org/event/chapter-meeting-sleeping-giant-chapter-2/2026-11-24/
LOCATION:North Haven\, 30 Church Street\, North Haven\, CT\, 06473\, United States
CATEGORIES:Chapter Business Meeting
END:VEVENT
BEGIN:VEVENT
DTSTART;TZID=UTC:20261125T190000
DTEND;TZID=UTC:20261125T203000
DTSTAMP:20260426T034101
CREATED:20250615T005509Z
LAST-MODIFIED:20250615T005509Z
UID:10000322-1795633200-1795638600@wp.ctdemolay.org
SUMMARY:Chapter Meeting: Milford Chapter
DESCRIPTION:Milford regularly scheduled Meeting in Milford\, CT \n7:00 PM Start – September through June \nChapter Polo or DeMolay Shirt
URL:https://wp.ctdemolay.org/event/chapter-meeting-milford-chapter-2/2026-11-25/
LOCATION:Milford\, 59 Broad Street\, Milford\, CT\, 06460\, United States
CATEGORIES:Chapter Business Meeting
END:VEVENT
BEGIN:VEVENT
DTSTART;TZID=UTC:20261125T193000
DTEND;TZID=UTC:20261125T210000
DTSTAMP:20260426T034101
CREATED:20250615T010234Z
LAST-MODIFIED:20250615T010234Z
UID:10000468-1795635000-1795640400@wp.ctdemolay.org
SUMMARY:Chapter Meeting: Oliver Wolcott Chapter
DESCRIPTION:Oliver Wolcott regularly scheduled Meeting in Torrington\, CT \n7:30 PM Start \nChapter Polo or DeMolay Shirt
URL:https://wp.ctdemolay.org/event/chapter-meeting-oliver-wolcott-chapter-2/2026-11-25/
LOCATION:Torrington\, 26 Water St\, Torrington\, CT\, 06790\, United States
CATEGORIES:Chapter Business Meeting
END:VEVENT
BEGIN:VEVENT
DTSTART;TZID=UTC:20261126T193000
DTEND;TZID=UTC:20261126T210000
DTSTAMP:20260426T034101
CREATED:20250615T002739Z
LAST-MODIFIED:20250615T002928Z
UID:10000132-1795721400-1795726800@wp.ctdemolay.org
SUMMARY:Chapter Meeting: Marcus Holcomb / Nathan Hale
DESCRIPTION:Marcus Holcomb / Nathan Hale regularly scheduled Meeting in Southington\, CT \n7:30 Start \nChapter Polo or DeMolay Shirt
URL:https://wp.ctdemolay.org/event/chapter-meeting-marcus-holcomb-nathan-hale-2/2026-11-26/
LOCATION:New Britian\, 10 Mason Drive\, New Britian\, CT\, 06052\, United States
CATEGORIES:Chapter Business Meeting
END:VEVENT
END:VCALENDAR