BEGIN:VCALENDAR
VERSION:2.0
PRODID:-//CT Demolay - ECPv6.14.2//NONSGML v1.0//EN
CALSCALE:GREGORIAN
METHOD:PUBLISH
X-ORIGINAL-URL:https://wp.ctdemolay.org
X-WR-CALDESC:Events for CT Demolay
REFRESH-INTERVAL;VALUE=DURATION:PT1H
X-Robots-Tag:noindex
X-PUBLISHED-TTL:PT1H
BEGIN:VTIMEZONE
TZID:UTC
BEGIN:STANDARD
TZOFFSETFROM:+0000
TZOFFSETTO:+0000
TZNAME:UTC
DTSTART:20260101T000000
END:STANDARD
END:VTIMEZONE
BEGIN:VEVENT
DTSTART;TZID=UTC:20260108T193000
DTEND;TZID=UTC:20260108T210000
DTSTAMP:20260425T214251
CREATED:20250615T002115Z
LAST-MODIFIED:20250615T004045Z
UID:10000014-1767900600-1767906000@wp.ctdemolay.org
SUMMARY:Chapter Meeting: Marcus Holcomb / Nathan Hale
DESCRIPTION:Marcus Holcomb / Nathan Hale regularly scheduled Meeting in New Britian\, CT \n7:30 Start \nChapter Polo or DeMolay Shirt
URL:https://wp.ctdemolay.org/event/chapter-meeting-marcus-holcomb-nathan-hale/2026-01-08/
LOCATION:New Britian\, 10 Mason Drive\, New Britian\, CT\, 06052\, United States
CATEGORIES:Chapter Business Meeting
END:VEVENT
BEGIN:VEVENT
DTSTART;TZID=UTC:20260113T193000
DTEND;TZID=UTC:20260113T210000
DTSTAMP:20260425T214251
CREATED:20250615T003612Z
LAST-MODIFIED:20250615T003612Z
UID:10000170-1768332600-1768338000@wp.ctdemolay.org
SUMMARY:Chapter Meeting: Sleeping Giant Chapter
DESCRIPTION:Sleeping Giant regularly scheduled Meeting in North Haven\, CT \n7:30 Start \nChapter Polo or DeMolay Shirt
URL:https://wp.ctdemolay.org/event/chapter-meeting-sleeping-giant-chapter/2026-01-13/
LOCATION:North Haven\, 30 Church Street\, North Haven\, CT\, 06473\, United States
CATEGORIES:Chapter Business Meeting
END:VEVENT
BEGIN:VEVENT
DTSTART;TZID=UTC:20260114T190000
DTEND;TZID=UTC:20260114T203000
DTSTAMP:20260425T214251
CREATED:20250615T005348Z
LAST-MODIFIED:20250615T005721Z
UID:10000360-1768417200-1768422600@wp.ctdemolay.org
SUMMARY:Chapter Meeting: Milford Chapter
DESCRIPTION:Milford regularly scheduled Meeting in Milford\, CT \n7:00 PM Start – September through June \nChapter Polo or DeMolay Shirt
URL:https://wp.ctdemolay.org/event/chapter-meeting-milford-chapter/2026-01-14/
LOCATION:Milford\, 59 Broad Street\, Milford\, CT\, 06460\, United States
CATEGORIES:Chapter Business Meeting
END:VEVENT
BEGIN:VEVENT
DTSTART;TZID=UTC:20260114T193000
DTEND;TZID=UTC:20260114T210000
DTSTAMP:20260425T214251
CREATED:20250615T010018Z
LAST-MODIFIED:20250615T010608Z
UID:10000506-1768419000-1768424400@wp.ctdemolay.org
SUMMARY:Chapter Meeting: Oliver Wolcott Chapter
DESCRIPTION:Oliver Wolcott regularly scheduled Meeting in Torrington\, CT \n7:30 PM Start \nChapter Polo or DeMolay Shirt
URL:https://wp.ctdemolay.org/event/chapter-meeting-oliver-wolcott-chapter/2026-01-14/
LOCATION:Torrington\, 26 Water St\, Torrington\, CT\, 06790\, United States
CATEGORIES:Chapter Business Meeting
END:VEVENT
BEGIN:VEVENT
DTSTART;TZID=UTC:20260122T193000
DTEND;TZID=UTC:20260122T210000
DTSTAMP:20260425T214251
CREATED:20250615T002739Z
LAST-MODIFIED:20250615T002928Z
UID:10000122-1769110200-1769115600@wp.ctdemolay.org
SUMMARY:Chapter Meeting: Marcus Holcomb / Nathan Hale
DESCRIPTION:Marcus Holcomb / Nathan Hale regularly scheduled Meeting in Southington\, CT \n7:30 Start \nChapter Polo or DeMolay Shirt
URL:https://wp.ctdemolay.org/event/chapter-meeting-marcus-holcomb-nathan-hale-2/2026-01-22/
LOCATION:New Britian\, 10 Mason Drive\, New Britian\, CT\, 06052\, United States
CATEGORIES:Chapter Business Meeting
END:VEVENT
BEGIN:VEVENT
DTSTART;TZID=UTC:20260127T193000
DTEND;TZID=UTC:20260127T210000
DTSTAMP:20260425T214251
CREATED:20250615T004917Z
LAST-MODIFIED:20250615T004917Z
UID:10000218-1769542200-1769547600@wp.ctdemolay.org
SUMMARY:Chapter Meeting: Sleeping Giant Chapter
DESCRIPTION:Sleeping Giant regularly scheduled Meeting in North Haven\, CT \n7:30 Start \nChapter Polo or DeMolay Shirt
URL:https://wp.ctdemolay.org/event/chapter-meeting-sleeping-giant-chapter-2/2026-01-27/
LOCATION:North Haven\, 30 Church Street\, North Haven\, CT\, 06473\, United States
CATEGORIES:Chapter Business Meeting
END:VEVENT
BEGIN:VEVENT
DTSTART;TZID=UTC:20260128T190000
DTEND;TZID=UTC:20260128T203000
DTSTAMP:20260425T214251
CREATED:20250615T005509Z
LAST-MODIFIED:20250615T005509Z
UID:10000312-1769626800-1769632200@wp.ctdemolay.org
SUMMARY:Chapter Meeting: Milford Chapter
DESCRIPTION:Milford regularly scheduled Meeting in Milford\, CT \n7:00 PM Start – September through June \nChapter Polo or DeMolay Shirt
URL:https://wp.ctdemolay.org/event/chapter-meeting-milford-chapter-2/2026-01-28/
LOCATION:Milford\, 59 Broad Street\, Milford\, CT\, 06460\, United States
CATEGORIES:Chapter Business Meeting
END:VEVENT
BEGIN:VEVENT
DTSTART;TZID=UTC:20260128T193000
DTEND;TZID=UTC:20260128T210000
DTSTAMP:20260425T214251
CREATED:20250615T010234Z
LAST-MODIFIED:20250615T010234Z
UID:10000458-1769628600-1769634000@wp.ctdemolay.org
SUMMARY:Chapter Meeting: Oliver Wolcott Chapter
DESCRIPTION:Oliver Wolcott regularly scheduled Meeting in Torrington\, CT \n7:30 PM Start \nChapter Polo or DeMolay Shirt
URL:https://wp.ctdemolay.org/event/chapter-meeting-oliver-wolcott-chapter-2/2026-01-28/
LOCATION:Torrington\, 26 Water St\, Torrington\, CT\, 06790\, United States
CATEGORIES:Chapter Business Meeting
END:VEVENT
END:VCALENDAR