BEGIN:VCALENDAR
VERSION:2.0
PRODID:-//CT Demolay - ECPv6.14.2//NONSGML v1.0//EN
CALSCALE:GREGORIAN
METHOD:PUBLISH
X-WR-CALNAME:CT Demolay
X-ORIGINAL-URL:https://wp.ctdemolay.org
X-WR-CALDESC:Events for CT Demolay
REFRESH-INTERVAL;VALUE=DURATION:PT1H
X-Robots-Tag:noindex
X-PUBLISHED-TTL:PT1H
BEGIN:VTIMEZONE
TZID:UTC
BEGIN:STANDARD
TZOFFSETFROM:+0000
TZOFFSETTO:+0000
TZNAME:UTC
DTSTART:20250101T000000
END:STANDARD
END:VTIMEZONE
BEGIN:VEVENT
DTSTART;TZID=UTC:20251111T193000
DTEND;TZID=UTC:20251111T210000
DTSTAMP:20260426T005043
CREATED:20250615T003612Z
LAST-MODIFIED:20250615T003612Z
UID:10000168-1762889400-1762894800@wp.ctdemolay.org
SUMMARY:Chapter Meeting: Sleeping Giant Chapter
DESCRIPTION:Sleeping Giant regularly scheduled Meeting in North Haven\, CT \n7:30 Start \nChapter Polo or DeMolay Shirt
URL:https://wp.ctdemolay.org/event/chapter-meeting-sleeping-giant-chapter/2025-11-11/
LOCATION:North Haven\, 30 Church Street\, North Haven\, CT\, 06473\, United States
CATEGORIES:Chapter Business Meeting
END:VEVENT
BEGIN:VEVENT
DTSTART;TZID=UTC:20251112T190000
DTEND;TZID=UTC:20251112T203000
DTSTAMP:20260426T005043
CREATED:20250615T005348Z
LAST-MODIFIED:20250615T005721Z
UID:10000358-1762974000-1762979400@wp.ctdemolay.org
SUMMARY:Chapter Meeting: Milford Chapter
DESCRIPTION:Milford regularly scheduled Meeting in Milford\, CT \n7:00 PM Start – September through June \nChapter Polo or DeMolay Shirt
URL:https://wp.ctdemolay.org/event/chapter-meeting-milford-chapter/2025-11-12/
LOCATION:Milford\, 59 Broad Street\, Milford\, CT\, 06460\, United States
CATEGORIES:Chapter Business Meeting
END:VEVENT
BEGIN:VEVENT
DTSTART;TZID=UTC:20251112T193000
DTEND;TZID=UTC:20251112T210000
DTSTAMP:20260426T005043
CREATED:20250615T010018Z
LAST-MODIFIED:20250615T010608Z
UID:10000504-1762975800-1762981200@wp.ctdemolay.org
SUMMARY:Chapter Meeting: Oliver Wolcott Chapter
DESCRIPTION:Oliver Wolcott regularly scheduled Meeting in Torrington\, CT \n7:30 PM Start \nChapter Polo or DeMolay Shirt
URL:https://wp.ctdemolay.org/event/chapter-meeting-oliver-wolcott-chapter/2025-11-12/
LOCATION:Torrington\, 26 Water St\, Torrington\, CT\, 06790\, United States
CATEGORIES:Chapter Business Meeting
END:VEVENT
BEGIN:VEVENT
DTSTART;TZID=UTC:20251113T193000
DTEND;TZID=UTC:20251113T210000
DTSTAMP:20260426T005043
CREATED:20250615T002115Z
LAST-MODIFIED:20250615T004045Z
UID:10000012-1763062200-1763067600@wp.ctdemolay.org
SUMMARY:Chapter Meeting: Marcus Holcomb / Nathan Hale
DESCRIPTION:Marcus Holcomb / Nathan Hale regularly scheduled Meeting in New Britian\, CT \n7:30 Start \nChapter Polo or DeMolay Shirt
URL:https://wp.ctdemolay.org/event/chapter-meeting-marcus-holcomb-nathan-hale/2025-11-13/
LOCATION:New Britian\, 10 Mason Drive\, New Britian\, CT\, 06052\, United States
CATEGORIES:Chapter Business Meeting
END:VEVENT
BEGIN:VEVENT
DTSTART;TZID=UTC:20251125T193000
DTEND;TZID=UTC:20251125T210000
DTSTAMP:20260426T005043
CREATED:20250615T004917Z
LAST-MODIFIED:20250615T004917Z
UID:10000216-1764099000-1764104400@wp.ctdemolay.org
SUMMARY:Chapter Meeting: Sleeping Giant Chapter
DESCRIPTION:Sleeping Giant regularly scheduled Meeting in North Haven\, CT \n7:30 Start \nChapter Polo or DeMolay Shirt
URL:https://wp.ctdemolay.org/event/chapter-meeting-sleeping-giant-chapter-2/2025-11-25/
LOCATION:North Haven\, 30 Church Street\, North Haven\, CT\, 06473\, United States
CATEGORIES:Chapter Business Meeting
END:VEVENT
BEGIN:VEVENT
DTSTART;TZID=UTC:20251126T190000
DTEND;TZID=UTC:20251126T203000
DTSTAMP:20260426T005043
CREATED:20250615T005509Z
LAST-MODIFIED:20250615T005509Z
UID:10000310-1764183600-1764189000@wp.ctdemolay.org
SUMMARY:Chapter Meeting: Milford Chapter
DESCRIPTION:Milford regularly scheduled Meeting in Milford\, CT \n7:00 PM Start – September through June \nChapter Polo or DeMolay Shirt
URL:https://wp.ctdemolay.org/event/chapter-meeting-milford-chapter-2/2025-11-26/
LOCATION:Milford\, 59 Broad Street\, Milford\, CT\, 06460\, United States
CATEGORIES:Chapter Business Meeting
END:VEVENT
BEGIN:VEVENT
DTSTART;TZID=UTC:20251126T193000
DTEND;TZID=UTC:20251126T210000
DTSTAMP:20260426T005043
CREATED:20250615T010234Z
LAST-MODIFIED:20250615T010234Z
UID:10000456-1764185400-1764190800@wp.ctdemolay.org
SUMMARY:Chapter Meeting: Oliver Wolcott Chapter
DESCRIPTION:Oliver Wolcott regularly scheduled Meeting in Torrington\, CT \n7:30 PM Start \nChapter Polo or DeMolay Shirt
URL:https://wp.ctdemolay.org/event/chapter-meeting-oliver-wolcott-chapter-2/2025-11-26/
LOCATION:Torrington\, 26 Water St\, Torrington\, CT\, 06790\, United States
CATEGORIES:Chapter Business Meeting
END:VEVENT
BEGIN:VEVENT
DTSTART;TZID=UTC:20251127T193000
DTEND;TZID=UTC:20251127T210000
DTSTAMP:20260426T005043
CREATED:20250615T002739Z
LAST-MODIFIED:20250615T002928Z
UID:10000120-1764271800-1764277200@wp.ctdemolay.org
SUMMARY:Chapter Meeting: Marcus Holcomb / Nathan Hale
DESCRIPTION:Marcus Holcomb / Nathan Hale regularly scheduled Meeting in Southington\, CT \n7:30 Start \nChapter Polo or DeMolay Shirt
URL:https://wp.ctdemolay.org/event/chapter-meeting-marcus-holcomb-nathan-hale-2/2025-11-27/
LOCATION:New Britian\, 10 Mason Drive\, New Britian\, CT\, 06052\, United States
CATEGORIES:Chapter Business Meeting
END:VEVENT
END:VCALENDAR