BEGIN:VCALENDAR
VERSION:2.0
PRODID:-//CT Demolay - ECPv6.14.2//NONSGML v1.0//EN
CALSCALE:GREGORIAN
METHOD:PUBLISH
X-WR-CALNAME:CT Demolay
X-ORIGINAL-URL:https://wp.ctdemolay.org
X-WR-CALDESC:Events for CT Demolay
REFRESH-INTERVAL;VALUE=DURATION:PT1H
X-Robots-Tag:noindex
X-PUBLISHED-TTL:PT1H
BEGIN:VTIMEZONE
TZID:UTC
BEGIN:STANDARD
TZOFFSETFROM:+0000
TZOFFSETTO:+0000
TZNAME:UTC
DTSTART:20250101T000000
END:STANDARD
END:VTIMEZONE
BEGIN:VEVENT
DTSTART;TZID=UTC:20251022T190000
DTEND;TZID=UTC:20251022T203000
DTSTAMP:20260426T002849
CREATED:20250615T005509Z
LAST-MODIFIED:20250615T005509Z
UID:10000309-1761159600-1761165000@wp.ctdemolay.org
SUMMARY:Chapter Meeting: Milford Chapter
DESCRIPTION:Milford regularly scheduled Meeting in Milford\, CT \n7:00 PM Start – September through June \nChapter Polo or DeMolay Shirt
URL:https://wp.ctdemolay.org/event/chapter-meeting-milford-chapter-2/2025-10-22/
LOCATION:Milford\, 59 Broad Street\, Milford\, CT\, 06460\, United States
CATEGORIES:Chapter Business Meeting
END:VEVENT
BEGIN:VEVENT
DTSTART;TZID=UTC:20251014T193000
DTEND;TZID=UTC:20251014T210000
DTSTAMP:20260426T002849
CREATED:20250615T003612Z
LAST-MODIFIED:20250615T003612Z
UID:10000167-1760470200-1760475600@wp.ctdemolay.org
SUMMARY:Chapter Meeting: Sleeping Giant Chapter
DESCRIPTION:Sleeping Giant regularly scheduled Meeting in North Haven\, CT \n7:30 Start \nChapter Polo or DeMolay Shirt
URL:https://wp.ctdemolay.org/event/chapter-meeting-sleeping-giant-chapter/2025-10-14/
LOCATION:North Haven\, 30 Church Street\, North Haven\, CT\, 06473\, United States
CATEGORIES:Chapter Business Meeting
END:VEVENT
BEGIN:VEVENT
DTSTART;TZID=UTC:20251009T193000
DTEND;TZID=UTC:20251009T210000
DTSTAMP:20260426T002849
CREATED:20250615T002115Z
LAST-MODIFIED:20250615T004045Z
UID:10000011-1760038200-1760043600@wp.ctdemolay.org
SUMMARY:Chapter Meeting: Marcus Holcomb / Nathan Hale
DESCRIPTION:Marcus Holcomb / Nathan Hale regularly scheduled Meeting in New Britian\, CT \n7:30 Start \nChapter Polo or DeMolay Shirt
URL:https://wp.ctdemolay.org/event/chapter-meeting-marcus-holcomb-nathan-hale/2025-10-09/
LOCATION:New Britian\, 10 Mason Drive\, New Britian\, CT\, 06052\, United States
CATEGORIES:Chapter Business Meeting
END:VEVENT
BEGIN:VEVENT
DTSTART;TZID=UTC:20251008T193000
DTEND;TZID=UTC:20251008T210000
DTSTAMP:20260426T002849
CREATED:20250615T010018Z
LAST-MODIFIED:20250615T010608Z
UID:10000503-1759951800-1759957200@wp.ctdemolay.org
SUMMARY:Chapter Meeting: Oliver Wolcott Chapter
DESCRIPTION:Oliver Wolcott regularly scheduled Meeting in Torrington\, CT \n7:30 PM Start \nChapter Polo or DeMolay Shirt
URL:https://wp.ctdemolay.org/event/chapter-meeting-oliver-wolcott-chapter/2025-10-08/
LOCATION:Torrington\, 26 Water St\, Torrington\, CT\, 06790\, United States
CATEGORIES:Chapter Business Meeting
END:VEVENT
BEGIN:VEVENT
DTSTART;TZID=UTC:20251008T190000
DTEND;TZID=UTC:20251008T203000
DTSTAMP:20260426T002849
CREATED:20250615T005348Z
LAST-MODIFIED:20250615T005721Z
UID:10000357-1759950000-1759955400@wp.ctdemolay.org
SUMMARY:Chapter Meeting: Milford Chapter
DESCRIPTION:Milford regularly scheduled Meeting in Milford\, CT \n7:00 PM Start – September through June \nChapter Polo or DeMolay Shirt
URL:https://wp.ctdemolay.org/event/chapter-meeting-milford-chapter/2025-10-08/
LOCATION:Milford\, 59 Broad Street\, Milford\, CT\, 06460\, United States
CATEGORIES:Chapter Business Meeting
END:VEVENT
BEGIN:VEVENT
DTSTART;TZID=UTC:20250925T193000
DTEND;TZID=UTC:20250925T210000
DTSTAMP:20260426T002849
CREATED:20250615T002739Z
LAST-MODIFIED:20250615T002928Z
UID:10000118-1758828600-1758834000@wp.ctdemolay.org
SUMMARY:Chapter Meeting: Marcus Holcomb / Nathan Hale
DESCRIPTION:Marcus Holcomb / Nathan Hale regularly scheduled Meeting in Southington\, CT \n7:30 Start \nChapter Polo or DeMolay Shirt
URL:https://wp.ctdemolay.org/event/chapter-meeting-marcus-holcomb-nathan-hale-2/2025-09-25/
LOCATION:New Britian\, 10 Mason Drive\, New Britian\, CT\, 06052\, United States
CATEGORIES:Chapter Business Meeting
END:VEVENT
BEGIN:VEVENT
DTSTART;TZID=UTC:20250924T193000
DTEND;TZID=UTC:20250924T210000
DTSTAMP:20260426T002849
CREATED:20250615T010234Z
LAST-MODIFIED:20250615T010234Z
UID:10000454-1758742200-1758747600@wp.ctdemolay.org
SUMMARY:Chapter Meeting: Oliver Wolcott Chapter
DESCRIPTION:Oliver Wolcott regularly scheduled Meeting in Torrington\, CT \n7:30 PM Start \nChapter Polo or DeMolay Shirt
URL:https://wp.ctdemolay.org/event/chapter-meeting-oliver-wolcott-chapter-2/2025-09-24/
LOCATION:Torrington\, 26 Water St\, Torrington\, CT\, 06790\, United States
CATEGORIES:Chapter Business Meeting
END:VEVENT
BEGIN:VEVENT
DTSTART;TZID=UTC:20250924T190000
DTEND;TZID=UTC:20250924T203000
DTSTAMP:20260426T002849
CREATED:20250615T005509Z
LAST-MODIFIED:20250615T005509Z
UID:10000308-1758740400-1758745800@wp.ctdemolay.org
SUMMARY:Chapter Meeting: Milford Chapter
DESCRIPTION:Milford regularly scheduled Meeting in Milford\, CT \n7:00 PM Start – September through June \nChapter Polo or DeMolay Shirt
URL:https://wp.ctdemolay.org/event/chapter-meeting-milford-chapter-2/2025-09-24/
LOCATION:Milford\, 59 Broad Street\, Milford\, CT\, 06460\, United States
CATEGORIES:Chapter Business Meeting
END:VEVENT
BEGIN:VEVENT
DTSTART;TZID=UTC:20250923T193000
DTEND;TZID=UTC:20250923T210000
DTSTAMP:20260426T002849
CREATED:20250615T004917Z
LAST-MODIFIED:20250615T004917Z
UID:10000214-1758655800-1758661200@wp.ctdemolay.org
SUMMARY:Chapter Meeting: Sleeping Giant Chapter
DESCRIPTION:Sleeping Giant regularly scheduled Meeting in North Haven\, CT \n7:30 Start \nChapter Polo or DeMolay Shirt
URL:https://wp.ctdemolay.org/event/chapter-meeting-sleeping-giant-chapter-2/2025-09-23/
LOCATION:North Haven\, 30 Church Street\, North Haven\, CT\, 06473\, United States
CATEGORIES:Chapter Business Meeting
END:VEVENT
BEGIN:VEVENT
DTSTART;TZID=UTC:20250911T193000
DTEND;TZID=UTC:20250911T210000
DTSTAMP:20260426T002849
CREATED:20250615T002115Z
LAST-MODIFIED:20250615T004045Z
UID:10000010-1757619000-1757624400@wp.ctdemolay.org
SUMMARY:Chapter Meeting: Marcus Holcomb / Nathan Hale
DESCRIPTION:Marcus Holcomb / Nathan Hale regularly scheduled Meeting in New Britian\, CT \n7:30 Start \nChapter Polo or DeMolay Shirt
URL:https://wp.ctdemolay.org/event/chapter-meeting-marcus-holcomb-nathan-hale/2025-09-11/
LOCATION:New Britian\, 10 Mason Drive\, New Britian\, CT\, 06052\, United States
CATEGORIES:Chapter Business Meeting
END:VEVENT
BEGIN:VEVENT
DTSTART;TZID=UTC:20250910T193000
DTEND;TZID=UTC:20250910T210000
DTSTAMP:20260426T002849
CREATED:20250615T010018Z
LAST-MODIFIED:20250615T010608Z
UID:10000502-1757532600-1757538000@wp.ctdemolay.org
SUMMARY:Chapter Meeting: Oliver Wolcott Chapter
DESCRIPTION:Oliver Wolcott regularly scheduled Meeting in Torrington\, CT \n7:30 PM Start \nChapter Polo or DeMolay Shirt
URL:https://wp.ctdemolay.org/event/chapter-meeting-oliver-wolcott-chapter/2025-09-10/
LOCATION:Torrington\, 26 Water St\, Torrington\, CT\, 06790\, United States
CATEGORIES:Chapter Business Meeting
END:VEVENT
BEGIN:VEVENT
DTSTART;TZID=UTC:20250910T190000
DTEND;TZID=UTC:20250910T203000
DTSTAMP:20260426T002849
CREATED:20250615T005348Z
LAST-MODIFIED:20250615T005721Z
UID:10000356-1757530800-1757536200@wp.ctdemolay.org
SUMMARY:Chapter Meeting: Milford Chapter
DESCRIPTION:Milford regularly scheduled Meeting in Milford\, CT \n7:00 PM Start – September through June \nChapter Polo or DeMolay Shirt
URL:https://wp.ctdemolay.org/event/chapter-meeting-milford-chapter/2025-09-10/
LOCATION:Milford\, 59 Broad Street\, Milford\, CT\, 06460\, United States
CATEGORIES:Chapter Business Meeting
END:VEVENT
BEGIN:VEVENT
DTSTART;TZID=UTC:20250909T193000
DTEND;TZID=UTC:20250909T210000
DTSTAMP:20260426T002849
CREATED:20250615T003612Z
LAST-MODIFIED:20250615T003612Z
UID:10000166-1757446200-1757451600@wp.ctdemolay.org
SUMMARY:Chapter Meeting: Sleeping Giant Chapter
DESCRIPTION:Sleeping Giant regularly scheduled Meeting in North Haven\, CT \n7:30 Start \nChapter Polo or DeMolay Shirt
URL:https://wp.ctdemolay.org/event/chapter-meeting-sleeping-giant-chapter/2025-09-09/
LOCATION:North Haven\, 30 Church Street\, North Haven\, CT\, 06473\, United States
CATEGORIES:Chapter Business Meeting
END:VEVENT
BEGIN:VEVENT
DTSTART;TZID=UTC:20250828T193000
DTEND;TZID=UTC:20250828T210000
DTSTAMP:20260426T002849
CREATED:20250615T002739Z
LAST-MODIFIED:20250615T002928Z
UID:10000117-1756409400-1756414800@wp.ctdemolay.org
SUMMARY:Chapter Meeting: Marcus Holcomb / Nathan Hale
DESCRIPTION:Marcus Holcomb / Nathan Hale regularly scheduled Meeting in Southington\, CT \n7:30 Start \nChapter Polo or DeMolay Shirt
URL:https://wp.ctdemolay.org/event/chapter-meeting-marcus-holcomb-nathan-hale-2/2025-08-28/
LOCATION:New Britian\, 10 Mason Drive\, New Britian\, CT\, 06052\, United States
CATEGORIES:Chapter Business Meeting
END:VEVENT
BEGIN:VEVENT
DTSTART;TZID=UTC:20250827T193000
DTEND;TZID=UTC:20250827T210000
DTSTAMP:20260426T002849
CREATED:20250615T010234Z
LAST-MODIFIED:20250615T010234Z
UID:10000453-1756323000-1756328400@wp.ctdemolay.org
SUMMARY:Chapter Meeting: Oliver Wolcott Chapter
DESCRIPTION:Oliver Wolcott regularly scheduled Meeting in Torrington\, CT \n7:30 PM Start \nChapter Polo or DeMolay Shirt
URL:https://wp.ctdemolay.org/event/chapter-meeting-oliver-wolcott-chapter-2/2025-08-27/
LOCATION:Torrington\, 26 Water St\, Torrington\, CT\, 06790\, United States
CATEGORIES:Chapter Business Meeting
END:VEVENT
BEGIN:VEVENT
DTSTART;TZID=UTC:20250826T193000
DTEND;TZID=UTC:20250826T210000
DTSTAMP:20260426T002849
CREATED:20250615T004917Z
LAST-MODIFIED:20250615T004917Z
UID:10000213-1756236600-1756242000@wp.ctdemolay.org
SUMMARY:Chapter Meeting: Sleeping Giant Chapter
DESCRIPTION:Sleeping Giant regularly scheduled Meeting in North Haven\, CT \n7:30 Start \nChapter Polo or DeMolay Shirt
URL:https://wp.ctdemolay.org/event/chapter-meeting-sleeping-giant-chapter-2/2025-08-26/
LOCATION:North Haven\, 30 Church Street\, North Haven\, CT\, 06473\, United States
CATEGORIES:Chapter Business Meeting
END:VEVENT
BEGIN:VEVENT
DTSTART;TZID=UTC:20250814T193000
DTEND;TZID=UTC:20250814T210000
DTSTAMP:20260426T002849
CREATED:20250615T002115Z
LAST-MODIFIED:20250615T004045Z
UID:10000009-1755199800-1755205200@wp.ctdemolay.org
SUMMARY:Chapter Meeting: Marcus Holcomb / Nathan Hale
DESCRIPTION:Marcus Holcomb / Nathan Hale regularly scheduled Meeting in New Britian\, CT \n7:30 Start \nChapter Polo or DeMolay Shirt
URL:https://wp.ctdemolay.org/event/chapter-meeting-marcus-holcomb-nathan-hale/2025-08-14/
LOCATION:New Britian\, 10 Mason Drive\, New Britian\, CT\, 06052\, United States
CATEGORIES:Chapter Business Meeting
END:VEVENT
BEGIN:VEVENT
DTSTART;TZID=UTC:20250813T193000
DTEND;TZID=UTC:20250813T210000
DTSTAMP:20260426T002849
CREATED:20250615T010018Z
LAST-MODIFIED:20250615T010608Z
UID:10000501-1755113400-1755118800@wp.ctdemolay.org
SUMMARY:Chapter Meeting: Oliver Wolcott Chapter
DESCRIPTION:Oliver Wolcott regularly scheduled Meeting in Torrington\, CT \n7:30 PM Start \nChapter Polo or DeMolay Shirt
URL:https://wp.ctdemolay.org/event/chapter-meeting-oliver-wolcott-chapter/2025-08-13/
LOCATION:Torrington\, 26 Water St\, Torrington\, CT\, 06790\, United States
CATEGORIES:Chapter Business Meeting
END:VEVENT
BEGIN:VEVENT
DTSTART;TZID=UTC:20250812T193000
DTEND;TZID=UTC:20250812T210000
DTSTAMP:20260426T002849
CREATED:20250615T003612Z
LAST-MODIFIED:20250615T003612Z
UID:10000165-1755027000-1755032400@wp.ctdemolay.org
SUMMARY:Chapter Meeting: Sleeping Giant Chapter
DESCRIPTION:Sleeping Giant regularly scheduled Meeting in North Haven\, CT \n7:30 Start \nChapter Polo or DeMolay Shirt
URL:https://wp.ctdemolay.org/event/chapter-meeting-sleeping-giant-chapter/2025-08-12/
LOCATION:North Haven\, 30 Church Street\, North Haven\, CT\, 06473\, United States
CATEGORIES:Chapter Business Meeting
END:VEVENT
BEGIN:VEVENT
DTSTART;TZID=UTC:20250724T193000
DTEND;TZID=UTC:20250724T210000
DTSTAMP:20260426T002849
CREATED:20250615T002739Z
LAST-MODIFIED:20250615T002928Z
UID:10000116-1753385400-1753390800@wp.ctdemolay.org
SUMMARY:Chapter Meeting: Marcus Holcomb / Nathan Hale
DESCRIPTION:Marcus Holcomb / Nathan Hale regularly scheduled Meeting in Southington\, CT \n7:30 Start \nChapter Polo or DeMolay Shirt
URL:https://wp.ctdemolay.org/event/chapter-meeting-marcus-holcomb-nathan-hale-2/2025-07-24/
LOCATION:New Britian\, 10 Mason Drive\, New Britian\, CT\, 06052\, United States
CATEGORIES:Chapter Business Meeting
END:VEVENT
BEGIN:VEVENT
DTSTART;TZID=UTC:20250723T193000
DTEND;TZID=UTC:20250723T210000
DTSTAMP:20260426T002849
CREATED:20250615T010234Z
LAST-MODIFIED:20250615T010234Z
UID:10000452-1753299000-1753304400@wp.ctdemolay.org
SUMMARY:Chapter Meeting: Oliver Wolcott Chapter
DESCRIPTION:Oliver Wolcott regularly scheduled Meeting in Torrington\, CT \n7:30 PM Start \nChapter Polo or DeMolay Shirt
URL:https://wp.ctdemolay.org/event/chapter-meeting-oliver-wolcott-chapter-2/2025-07-23/
LOCATION:Torrington\, 26 Water St\, Torrington\, CT\, 06790\, United States
CATEGORIES:Chapter Business Meeting
END:VEVENT
BEGIN:VEVENT
DTSTART;TZID=UTC:20250722T193000
DTEND;TZID=UTC:20250722T210000
DTSTAMP:20260426T002849
CREATED:20250615T004917Z
LAST-MODIFIED:20250615T004917Z
UID:10000212-1753212600-1753218000@wp.ctdemolay.org
SUMMARY:Chapter Meeting: Sleeping Giant Chapter
DESCRIPTION:Sleeping Giant regularly scheduled Meeting in North Haven\, CT \n7:30 Start \nChapter Polo or DeMolay Shirt
URL:https://wp.ctdemolay.org/event/chapter-meeting-sleeping-giant-chapter-2/2025-07-22/
LOCATION:North Haven\, 30 Church Street\, North Haven\, CT\, 06473\, United States
CATEGORIES:Chapter Business Meeting
END:VEVENT
BEGIN:VEVENT
DTSTART;VALUE=DATE:20250711
DTEND;VALUE=DATE:20250714
DTSTAMP:20260426T002849
CREATED:20250324T015458Z
LAST-MODIFIED:20250528T012925Z
UID:10000007-1752192000-1752451199@wp.ctdemolay.org
SUMMARY:2025 CT DeMolay Conclave
DESCRIPTION:Join us for this year’s Conclave weekend at the University of New Haven! \nCost $125 per attendee \nCT State Officer Installation will take place on Sunday July 13\, 2025 \nRegistration will open at 3:00 PM Friday July 11th. \nClick Here to Register
URL:https://wp.ctdemolay.org/event/2025-ct-demolay-conclave/
LOCATION:University of New Haven\, 300 Boston Post Road\, West Haven\, CT\, 06516\, United States
CATEGORIES:State Event
END:VEVENT
BEGIN:VEVENT
DTSTART;TZID=UTC:20250710T193000
DTEND;TZID=UTC:20250710T210000
DTSTAMP:20260426T002849
CREATED:20250615T002115Z
LAST-MODIFIED:20250615T004045Z
UID:10000008-1752175800-1752181200@wp.ctdemolay.org
SUMMARY:Chapter Meeting: Marcus Holcomb / Nathan Hale
DESCRIPTION:Marcus Holcomb / Nathan Hale regularly scheduled Meeting in New Britian\, CT \n7:30 Start \nChapter Polo or DeMolay Shirt
URL:https://wp.ctdemolay.org/event/chapter-meeting-marcus-holcomb-nathan-hale/2025-07-10/
LOCATION:New Britian\, 10 Mason Drive\, New Britian\, CT\, 06052\, United States
CATEGORIES:Chapter Business Meeting
END:VEVENT
BEGIN:VEVENT
DTSTART;TZID=UTC:20250709T193000
DTEND;TZID=UTC:20250709T210000
DTSTAMP:20260426T002849
CREATED:20250615T010018Z
LAST-MODIFIED:20250615T010608Z
UID:10000500-1752089400-1752094800@wp.ctdemolay.org
SUMMARY:Chapter Meeting: Oliver Wolcott Chapter
DESCRIPTION:Oliver Wolcott regularly scheduled Meeting in Torrington\, CT \n7:30 PM Start \nChapter Polo or DeMolay Shirt
URL:https://wp.ctdemolay.org/event/chapter-meeting-oliver-wolcott-chapter/2025-07-09/
LOCATION:Torrington\, 26 Water St\, Torrington\, CT\, 06790\, United States
CATEGORIES:Chapter Business Meeting
END:VEVENT
BEGIN:VEVENT
DTSTART;TZID=UTC:20250708T193000
DTEND;TZID=UTC:20250708T210000
DTSTAMP:20260426T002849
CREATED:20250615T003612Z
LAST-MODIFIED:20250615T003612Z
UID:10000164-1752003000-1752008400@wp.ctdemolay.org
SUMMARY:Chapter Meeting: Sleeping Giant Chapter
DESCRIPTION:Sleeping Giant regularly scheduled Meeting in North Haven\, CT \n7:30 Start \nChapter Polo or DeMolay Shirt
URL:https://wp.ctdemolay.org/event/chapter-meeting-sleeping-giant-chapter/2025-07-08/
LOCATION:North Haven\, 30 Church Street\, North Haven\, CT\, 06473\, United States
CATEGORIES:Chapter Business Meeting
END:VEVENT
BEGIN:VEVENT
DTSTART;TZID=UTC:20250427T140000
DTEND;TZID=UTC:20250427T170000
DTSTAMP:20260426T002849
CREATED:20250323T040622Z
LAST-MODIFIED:20250324T014432Z
UID:10000006-1745762400-1745773200@wp.ctdemolay.org
SUMMARY:All: GAME NIGHT!
DESCRIPTION:Attire: Casual \nJoin us at the New Haven Masonic Building for a game night. Event is open to DeMolay members and guests. \nBoard games\, card games\, and video games
URL:https://wp.ctdemolay.org/event/all-game-night/
LOCATION:New Haven\, 285 Whitney Ave\, New Haven\, CT\, 06511\, United States
CATEGORIES:State Event
END:VEVENT
BEGIN:VEVENT
DTSTART;TZID=UTC:20250421T063000
DTEND;TZID=UTC:20250421T210000
DTSTAMP:20260426T002849
CREATED:20250323T040242Z
LAST-MODIFIED:20250324T014738Z
UID:10000005-1745217000-1745269200@wp.ctdemolay.org
SUMMARY:State & Chapter: Friendship Lodge Presentation
DESCRIPTION:Join us as we provide Friendship Lodge’s program for the evening \nDinner is free for CT DeMolay Members \nAttire: Suit & Tie
URL:https://wp.ctdemolay.org/event/state-chapter-friendship-lodge-presentation/
LOCATION:Friendship\, 76 Main Street\, Southington\, CT\, 06489\, United States
CATEGORIES:Masonic Event
END:VEVENT
BEGIN:VEVENT
DTSTART;TZID=UTC:20250413T120000
DTEND;TZID=UTC:20250413T160000
DTSTAMP:20260426T002849
CREATED:20250323T035828Z
LAST-MODIFIED:20250323T035828Z
UID:10000004-1744545600-1744560000@wp.ctdemolay.org
SUMMARY:State: 5th Annual Bowling Tournament
DESCRIPTION:$25 per person or $100 per team \nDonations go towards the JED Foundation \nRegister TODAY!
URL:https://wp.ctdemolay.org/event/state-5th-annual-bowling-tournament/
LOCATION:Valley\, 1304 S. Main Street\, Plantsville\, 06479\, United States
END:VEVENT
BEGIN:VEVENT
DTSTART;TZID=UTC:20250408T183000
DTEND;TZID=UTC:20250408T210000
DTSTAMP:20260426T002849
CREATED:20250323T035342Z
LAST-MODIFIED:20250323T035342Z
UID:10000003-1744137000-1744146000@wp.ctdemolay.org
SUMMARY:State: Shepard Salem Presentation
DESCRIPTION:Attire: Suit & Tie \nOpen to all Members \nState Officer presentation
URL:https://wp.ctdemolay.org/event/state-shepard-salem-presentation/
LOCATION:Shepherd – Salem No. 78\, 130 Church St\, Naugatuck\, CT\, 06770\, United States
END:VEVENT
END:VCALENDAR