BEGIN:VCALENDAR
VERSION:2.0
PRODID:-//CT Demolay - ECPv6.14.2//NONSGML v1.0//EN
CALSCALE:GREGORIAN
METHOD:PUBLISH
X-ORIGINAL-URL:https://wp.ctdemolay.org
X-WR-CALDESC:Events for CT Demolay
REFRESH-INTERVAL;VALUE=DURATION:PT1H
X-Robots-Tag:noindex
X-PUBLISHED-TTL:PT1H
BEGIN:VTIMEZONE
TZID:UTC
BEGIN:STANDARD
TZOFFSETFROM:+0000
TZOFFSETTO:+0000
TZNAME:UTC
DTSTART:20290101T000000
END:STANDARD
END:VTIMEZONE
BEGIN:VEVENT
DTSTART;TZID=UTC:20290627T193000
DTEND;TZID=UTC:20290627T210000
DTSTAMP:20260420T025438
CREATED:20250615T010234Z
LAST-MODIFIED:20250615T010234Z
UID:10000499-1877283000-1877288400@wp.ctdemolay.org
SUMMARY:Chapter Meeting: Oliver Wolcott Chapter
DESCRIPTION:Oliver Wolcott regularly scheduled Meeting in Torrington\, CT \n7:30 PM Start \nChapter Polo or DeMolay Shirt
URL:https://wp.ctdemolay.org/event/chapter-meeting-oliver-wolcott-chapter-2/2029-06-27/
LOCATION:Torrington\, 26 Water St\, Torrington\, CT\, 06790\, United States
CATEGORIES:Chapter Business Meeting
END:VEVENT
BEGIN:VEVENT
DTSTART;TZID=UTC:20290628T193000
DTEND;TZID=UTC:20290628T210000
DTSTAMP:20260420T025438
CREATED:20250615T002739Z
LAST-MODIFIED:20250615T002928Z
UID:10000163-1877369400-1877374800@wp.ctdemolay.org
SUMMARY:Chapter Meeting: Marcus Holcomb / Nathan Hale
DESCRIPTION:Marcus Holcomb / Nathan Hale regularly scheduled Meeting in Southington\, CT \n7:30 Start \nChapter Polo or DeMolay Shirt
URL:https://wp.ctdemolay.org/event/chapter-meeting-marcus-holcomb-nathan-hale-2/2029-06-28/
LOCATION:New Britian\, 10 Mason Drive\, New Britian\, CT\, 06052\, United States
CATEGORIES:Chapter Business Meeting
END:VEVENT
BEGIN:VEVENT
DTSTART;TZID=UTC:20290711T190000
DTEND;TZID=UTC:20290711T203000
DTSTAMP:20260420T025438
CREATED:20250615T005348Z
LAST-MODIFIED:20250615T005721Z
UID:10000402-1878490800-1878496200@wp.ctdemolay.org
SUMMARY:Chapter Meeting: Milford Chapter
DESCRIPTION:Milford regularly scheduled Meeting in Milford\, CT \n7:00 PM Start – September through June \nChapter Polo or DeMolay Shirt
URL:https://wp.ctdemolay.org/event/chapter-meeting-milford-chapter/2029-07-11/
LOCATION:Milford\, 59 Broad Street\, Milford\, CT\, 06460\, United States
CATEGORIES:Chapter Business Meeting
END:VEVENT
BEGIN:VEVENT
DTSTART;TZID=UTC:20290725T190000
DTEND;TZID=UTC:20290725T203000
DTSTAMP:20260420T025438
CREATED:20250615T005509Z
LAST-MODIFIED:20250615T005509Z
UID:10000354-1879700400-1879705800@wp.ctdemolay.org
SUMMARY:Chapter Meeting: Milford Chapter
DESCRIPTION:Milford regularly scheduled Meeting in Milford\, CT \n7:00 PM Start – September through June \nChapter Polo or DeMolay Shirt
URL:https://wp.ctdemolay.org/event/chapter-meeting-milford-chapter-2/2029-07-25/
LOCATION:Milford\, 59 Broad Street\, Milford\, CT\, 06460\, United States
CATEGORIES:Chapter Business Meeting
END:VEVENT
BEGIN:VEVENT
DTSTART;TZID=UTC:20290808T190000
DTEND;TZID=UTC:20290808T203000
DTSTAMP:20260420T025438
CREATED:20250615T005348Z
LAST-MODIFIED:20250615T005721Z
UID:10000403-1880910000-1880915400@wp.ctdemolay.org
SUMMARY:Chapter Meeting: Milford Chapter
DESCRIPTION:Milford regularly scheduled Meeting in Milford\, CT \n7:00 PM Start – September through June \nChapter Polo or DeMolay Shirt
URL:https://wp.ctdemolay.org/event/chapter-meeting-milford-chapter/2029-08-08/
LOCATION:Milford\, 59 Broad Street\, Milford\, CT\, 06460\, United States
CATEGORIES:Chapter Business Meeting
END:VEVENT
BEGIN:VEVENT
DTSTART;TZID=UTC:20290822T190000
DTEND;TZID=UTC:20290822T203000
DTSTAMP:20260420T025438
CREATED:20250615T005509Z
LAST-MODIFIED:20250615T005509Z
UID:10000355-1882119600-1882125000@wp.ctdemolay.org
SUMMARY:Chapter Meeting: Milford Chapter
DESCRIPTION:Milford regularly scheduled Meeting in Milford\, CT \n7:00 PM Start – September through June \nChapter Polo or DeMolay Shirt
URL:https://wp.ctdemolay.org/event/chapter-meeting-milford-chapter-2/2029-08-22/
LOCATION:Milford\, 59 Broad Street\, Milford\, CT\, 06460\, United States
CATEGORIES:Chapter Business Meeting
END:VEVENT
END:VCALENDAR