BEGIN:VCALENDAR
VERSION:2.0
PRODID:-//CT Demolay - ECPv6.14.2//NONSGML v1.0//EN
CALSCALE:GREGORIAN
METHOD:PUBLISH
X-WR-CALNAME:CT Demolay
X-ORIGINAL-URL:https://wp.ctdemolay.org
X-WR-CALDESC:Events for CT Demolay
REFRESH-INTERVAL;VALUE=DURATION:PT1H
X-Robots-Tag:noindex
X-PUBLISHED-TTL:PT1H
BEGIN:VTIMEZONE
TZID:UTC
BEGIN:STANDARD
TZOFFSETFROM:+0000
TZOFFSETTO:+0000
TZNAME:UTC
DTSTART:20260101T000000
END:STANDARD
END:VTIMEZONE
BEGIN:VEVENT
DTSTART;TZID=UTC:20260609T193000
DTEND;TZID=UTC:20260609T210000
DTSTAMP:20260425T172626
CREATED:20250615T003612Z
LAST-MODIFIED:20250615T003612Z
UID:10000175-1781033400-1781038800@wp.ctdemolay.org
SUMMARY:Chapter Meeting: Sleeping Giant Chapter
DESCRIPTION:Sleeping Giant regularly scheduled Meeting in North Haven\, CT \n7:30 Start \nChapter Polo or DeMolay Shirt
URL:https://wp.ctdemolay.org/event/chapter-meeting-sleeping-giant-chapter/2026-06-09/
LOCATION:North Haven\, 30 Church Street\, North Haven\, CT\, 06473\, United States
CATEGORIES:Chapter Business Meeting
END:VEVENT
BEGIN:VEVENT
DTSTART;TZID=UTC:20260610T190000
DTEND;TZID=UTC:20260610T203000
DTSTAMP:20260425T172626
CREATED:20250615T005348Z
LAST-MODIFIED:20250615T005721Z
UID:10000365-1781118000-1781123400@wp.ctdemolay.org
SUMMARY:Chapter Meeting: Milford Chapter
DESCRIPTION:Milford regularly scheduled Meeting in Milford\, CT \n7:00 PM Start – September through June \nChapter Polo or DeMolay Shirt
URL:https://wp.ctdemolay.org/event/chapter-meeting-milford-chapter/2026-06-10/
LOCATION:Milford\, 59 Broad Street\, Milford\, CT\, 06460\, United States
CATEGORIES:Chapter Business Meeting
END:VEVENT
BEGIN:VEVENT
DTSTART;TZID=UTC:20260610T193000
DTEND;TZID=UTC:20260610T210000
DTSTAMP:20260425T172626
CREATED:20250615T010018Z
LAST-MODIFIED:20250615T010608Z
UID:10000511-1781119800-1781125200@wp.ctdemolay.org
SUMMARY:Chapter Meeting: Oliver Wolcott Chapter
DESCRIPTION:Oliver Wolcott regularly scheduled Meeting in Torrington\, CT \n7:30 PM Start \nChapter Polo or DeMolay Shirt
URL:https://wp.ctdemolay.org/event/chapter-meeting-oliver-wolcott-chapter/2026-06-10/
LOCATION:Torrington\, 26 Water St\, Torrington\, CT\, 06790\, United States
CATEGORIES:Chapter Business Meeting
END:VEVENT
BEGIN:VEVENT
DTSTART;TZID=UTC:20260611T193000
DTEND;TZID=UTC:20260611T210000
DTSTAMP:20260425T172626
CREATED:20250615T002115Z
LAST-MODIFIED:20250615T004045Z
UID:10000019-1781206200-1781211600@wp.ctdemolay.org
SUMMARY:Chapter Meeting: Marcus Holcomb / Nathan Hale
DESCRIPTION:Marcus Holcomb / Nathan Hale regularly scheduled Meeting in New Britian\, CT \n7:30 Start \nChapter Polo or DeMolay Shirt
URL:https://wp.ctdemolay.org/event/chapter-meeting-marcus-holcomb-nathan-hale/2026-06-11/
LOCATION:New Britian\, 10 Mason Drive\, New Britian\, CT\, 06052\, United States
CATEGORIES:Chapter Business Meeting
END:VEVENT
BEGIN:VEVENT
DTSTART;TZID=UTC:20260623T193000
DTEND;TZID=UTC:20260623T210000
DTSTAMP:20260425T172626
CREATED:20250615T004917Z
LAST-MODIFIED:20250615T004917Z
UID:10000223-1782243000-1782248400@wp.ctdemolay.org
SUMMARY:Chapter Meeting: Sleeping Giant Chapter
DESCRIPTION:Sleeping Giant regularly scheduled Meeting in North Haven\, CT \n7:30 Start \nChapter Polo or DeMolay Shirt
URL:https://wp.ctdemolay.org/event/chapter-meeting-sleeping-giant-chapter-2/2026-06-23/
LOCATION:North Haven\, 30 Church Street\, North Haven\, CT\, 06473\, United States
CATEGORIES:Chapter Business Meeting
END:VEVENT
BEGIN:VEVENT
DTSTART;TZID=UTC:20260624T190000
DTEND;TZID=UTC:20260624T203000
DTSTAMP:20260425T172626
CREATED:20250615T005509Z
LAST-MODIFIED:20250615T005509Z
UID:10000317-1782327600-1782333000@wp.ctdemolay.org
SUMMARY:Chapter Meeting: Milford Chapter
DESCRIPTION:Milford regularly scheduled Meeting in Milford\, CT \n7:00 PM Start – September through June \nChapter Polo or DeMolay Shirt
URL:https://wp.ctdemolay.org/event/chapter-meeting-milford-chapter-2/2026-06-24/
LOCATION:Milford\, 59 Broad Street\, Milford\, CT\, 06460\, United States
CATEGORIES:Chapter Business Meeting
END:VEVENT
BEGIN:VEVENT
DTSTART;TZID=UTC:20260624T193000
DTEND;TZID=UTC:20260624T210000
DTSTAMP:20260425T172626
CREATED:20250615T010234Z
LAST-MODIFIED:20250615T010234Z
UID:10000463-1782329400-1782334800@wp.ctdemolay.org
SUMMARY:Chapter Meeting: Oliver Wolcott Chapter
DESCRIPTION:Oliver Wolcott regularly scheduled Meeting in Torrington\, CT \n7:30 PM Start \nChapter Polo or DeMolay Shirt
URL:https://wp.ctdemolay.org/event/chapter-meeting-oliver-wolcott-chapter-2/2026-06-24/
LOCATION:Torrington\, 26 Water St\, Torrington\, CT\, 06790\, United States
CATEGORIES:Chapter Business Meeting
END:VEVENT
BEGIN:VEVENT
DTSTART;TZID=UTC:20260625T193000
DTEND;TZID=UTC:20260625T210000
DTSTAMP:20260425T172626
CREATED:20250615T002739Z
LAST-MODIFIED:20250615T002928Z
UID:10000127-1782415800-1782421200@wp.ctdemolay.org
SUMMARY:Chapter Meeting: Marcus Holcomb / Nathan Hale
DESCRIPTION:Marcus Holcomb / Nathan Hale regularly scheduled Meeting in Southington\, CT \n7:30 Start \nChapter Polo or DeMolay Shirt
URL:https://wp.ctdemolay.org/event/chapter-meeting-marcus-holcomb-nathan-hale-2/2026-06-25/
LOCATION:New Britian\, 10 Mason Drive\, New Britian\, CT\, 06052\, United States
CATEGORIES:Chapter Business Meeting
END:VEVENT
END:VCALENDAR