BEGIN:VCALENDAR
VERSION:2.0
PRODID:-//CT Demolay - ECPv6.14.2//NONSGML v1.0//EN
CALSCALE:GREGORIAN
METHOD:PUBLISH
X-WR-CALNAME:CT Demolay
X-ORIGINAL-URL:https://wp.ctdemolay.org
X-WR-CALDESC:Events for CT Demolay
REFRESH-INTERVAL;VALUE=DURATION:PT1H
X-Robots-Tag:noindex
X-PUBLISHED-TTL:PT1H
BEGIN:VTIMEZONE
TZID:UTC
BEGIN:STANDARD
TZOFFSETFROM:+0000
TZOFFSETTO:+0000
TZNAME:UTC
DTSTART:20260101T000000
END:STANDARD
END:VTIMEZONE
BEGIN:VEVENT
DTSTART;TZID=UTC:20260512T193000
DTEND;TZID=UTC:20260512T210000
DTSTAMP:20260425T155334
CREATED:20250615T003612Z
LAST-MODIFIED:20250615T003612Z
UID:10000174-1778614200-1778619600@wp.ctdemolay.org
SUMMARY:Chapter Meeting: Sleeping Giant Chapter
DESCRIPTION:Sleeping Giant regularly scheduled Meeting in North Haven\, CT \n7:30 Start \nChapter Polo or DeMolay Shirt
URL:https://wp.ctdemolay.org/event/chapter-meeting-sleeping-giant-chapter/2026-05-12/
LOCATION:North Haven\, 30 Church Street\, North Haven\, CT\, 06473\, United States
CATEGORIES:Chapter Business Meeting
END:VEVENT
BEGIN:VEVENT
DTSTART;TZID=UTC:20260513T190000
DTEND;TZID=UTC:20260513T203000
DTSTAMP:20260425T155334
CREATED:20250615T005348Z
LAST-MODIFIED:20250615T005721Z
UID:10000364-1778698800-1778704200@wp.ctdemolay.org
SUMMARY:Chapter Meeting: Milford Chapter
DESCRIPTION:Milford regularly scheduled Meeting in Milford\, CT \n7:00 PM Start – September through June \nChapter Polo or DeMolay Shirt
URL:https://wp.ctdemolay.org/event/chapter-meeting-milford-chapter/2026-05-13/
LOCATION:Milford\, 59 Broad Street\, Milford\, CT\, 06460\, United States
CATEGORIES:Chapter Business Meeting
END:VEVENT
BEGIN:VEVENT
DTSTART;TZID=UTC:20260513T193000
DTEND;TZID=UTC:20260513T210000
DTSTAMP:20260425T155334
CREATED:20250615T010018Z
LAST-MODIFIED:20250615T010608Z
UID:10000510-1778700600-1778706000@wp.ctdemolay.org
SUMMARY:Chapter Meeting: Oliver Wolcott Chapter
DESCRIPTION:Oliver Wolcott regularly scheduled Meeting in Torrington\, CT \n7:30 PM Start \nChapter Polo or DeMolay Shirt
URL:https://wp.ctdemolay.org/event/chapter-meeting-oliver-wolcott-chapter/2026-05-13/
LOCATION:Torrington\, 26 Water St\, Torrington\, CT\, 06790\, United States
CATEGORIES:Chapter Business Meeting
END:VEVENT
BEGIN:VEVENT
DTSTART;TZID=UTC:20260514T193000
DTEND;TZID=UTC:20260514T210000
DTSTAMP:20260425T155334
CREATED:20250615T002115Z
LAST-MODIFIED:20250615T004045Z
UID:10000018-1778787000-1778792400@wp.ctdemolay.org
SUMMARY:Chapter Meeting: Marcus Holcomb / Nathan Hale
DESCRIPTION:Marcus Holcomb / Nathan Hale regularly scheduled Meeting in New Britian\, CT \n7:30 Start \nChapter Polo or DeMolay Shirt
URL:https://wp.ctdemolay.org/event/chapter-meeting-marcus-holcomb-nathan-hale/2026-05-14/
LOCATION:New Britian\, 10 Mason Drive\, New Britian\, CT\, 06052\, United States
CATEGORIES:Chapter Business Meeting
END:VEVENT
BEGIN:VEVENT
DTSTART;TZID=UTC:20260526T193000
DTEND;TZID=UTC:20260526T210000
DTSTAMP:20260425T155334
CREATED:20250615T004917Z
LAST-MODIFIED:20250615T004917Z
UID:10000222-1779823800-1779829200@wp.ctdemolay.org
SUMMARY:Chapter Meeting: Sleeping Giant Chapter
DESCRIPTION:Sleeping Giant regularly scheduled Meeting in North Haven\, CT \n7:30 Start \nChapter Polo or DeMolay Shirt
URL:https://wp.ctdemolay.org/event/chapter-meeting-sleeping-giant-chapter-2/2026-05-26/
LOCATION:North Haven\, 30 Church Street\, North Haven\, CT\, 06473\, United States
CATEGORIES:Chapter Business Meeting
END:VEVENT
BEGIN:VEVENT
DTSTART;TZID=UTC:20260527T190000
DTEND;TZID=UTC:20260527T203000
DTSTAMP:20260425T155334
CREATED:20250615T005509Z
LAST-MODIFIED:20250615T005509Z
UID:10000316-1779908400-1779913800@wp.ctdemolay.org
SUMMARY:Chapter Meeting: Milford Chapter
DESCRIPTION:Milford regularly scheduled Meeting in Milford\, CT \n7:00 PM Start – September through June \nChapter Polo or DeMolay Shirt
URL:https://wp.ctdemolay.org/event/chapter-meeting-milford-chapter-2/2026-05-27/
LOCATION:Milford\, 59 Broad Street\, Milford\, CT\, 06460\, United States
CATEGORIES:Chapter Business Meeting
END:VEVENT
BEGIN:VEVENT
DTSTART;TZID=UTC:20260527T193000
DTEND;TZID=UTC:20260527T210000
DTSTAMP:20260425T155334
CREATED:20250615T010234Z
LAST-MODIFIED:20250615T010234Z
UID:10000462-1779910200-1779915600@wp.ctdemolay.org
SUMMARY:Chapter Meeting: Oliver Wolcott Chapter
DESCRIPTION:Oliver Wolcott regularly scheduled Meeting in Torrington\, CT \n7:30 PM Start \nChapter Polo or DeMolay Shirt
URL:https://wp.ctdemolay.org/event/chapter-meeting-oliver-wolcott-chapter-2/2026-05-27/
LOCATION:Torrington\, 26 Water St\, Torrington\, CT\, 06790\, United States
CATEGORIES:Chapter Business Meeting
END:VEVENT
BEGIN:VEVENT
DTSTART;TZID=UTC:20260528T193000
DTEND;TZID=UTC:20260528T210000
DTSTAMP:20260425T155334
CREATED:20250615T002739Z
LAST-MODIFIED:20250615T002928Z
UID:10000126-1779996600-1780002000@wp.ctdemolay.org
SUMMARY:Chapter Meeting: Marcus Holcomb / Nathan Hale
DESCRIPTION:Marcus Holcomb / Nathan Hale regularly scheduled Meeting in Southington\, CT \n7:30 Start \nChapter Polo or DeMolay Shirt
URL:https://wp.ctdemolay.org/event/chapter-meeting-marcus-holcomb-nathan-hale-2/2026-05-28/
LOCATION:New Britian\, 10 Mason Drive\, New Britian\, CT\, 06052\, United States
CATEGORIES:Chapter Business Meeting
END:VEVENT
END:VCALENDAR